BEGIN:VCALENDAR
VERSION:2.0
PRODID:-//pretix//JJ_Pearce_-_Class_of_'01//
BEGIN:VTIMEZONE
TZID:US/Central
BEGIN:STANDARD
DTSTART:20001029T030000
RRULE:FREQ=YEARLY;BYDAY=-1SU;BYMONTH=10;UNTIL=20061029T080000Z
TZNAME:CST
TZOFFSETFROM:-0500
TZOFFSETTO:-0600
END:STANDARD
BEGIN:STANDARD
DTSTART:20071104T030000
RRULE:FREQ=YEARLY;BYDAY=1SU;BYMONTH=11
TZNAME:CST
TZOFFSETFROM:-0500
TZOFFSETTO:-0600
END:STANDARD
BEGIN:DAYLIGHT
DTSTART:20000402T030000
RRULE:FREQ=YEARLY;BYDAY=1SU;BYMONTH=4;UNTIL=20060402T090000Z
TZNAME:CDT
TZOFFSETFROM:-0600
TZOFFSETTO:-0500
END:DAYLIGHT
BEGIN:DAYLIGHT
DTSTART:20070311T030000
RRULE:FREQ=YEARLY;BYDAY=2SU;BYMONTH=3
TZNAME:CDT
TZOFFSETFROM:-0600
TZOFFSETTO:-0500
END:DAYLIGHT
END:VTIMEZONE
BEGIN:VEVENT
UID:pretix-Pearce01-25th-0@tickets.pearce01reunion.com
DTSTART;TZID=US/Central:20260926T190000
DTEND;TZID=US/Central:20260926T220000
DESCRIPTION:Tickets: https://tickets.pearce01reunion.com/Pearce01/25th/\nOr
 ganizer: JJ Pearce - Class of '01
DTSTAMP:20260420T142557Z
LOCATION:Nuvo Room\, 4241 Sigma Rd\, Suite B\, Dallas\, TX 75244
SUMMARY:JJ Pearce - Class of '01 - 25th Reunion
END:VEVENT
END:VCALENDAR
